BEGIN:VCALENDAR
VERSION:2.0
PRODID:-//https://www.pg-duerrbachtal.de///NONSGML kigkonsult.se iCalcreator 2.10.15//
METHOD:PUBLISH
BEGIN:VEVENT
UID:20260423T141439CEST-4594zZoVTT@https://www.pg-duerrbachtal.de/
DTSTAMP:20260423T121439Z
DESCRIPTION:Herzliche Einladung 65 Jahre Heilig Geist\n https://www.pg-duer
 rbachtal.de/component/rseventspro/event/95-die-kuratie-heilig-geist-feiert
 -ihr-65jähriges-jubiläum?Itemid=101
DTSTART:20230618T083000Z
DTEND:20230618T150000Z
LOCATION:Heilig Geist\, Dürrbachau ()
SUMMARY:Die Kuratie Heilig Geist feiert ihr 65jähriges Jubiläum
URL:https://www.pg-duerrbachtal.de/component/rseventspro/event/95-die-kurat
 ie-heilig-geist-feiert-ihr-65jähriges-jubiläum?Itemid=101
END:VEVENT
END:VCALENDAR
