BEGIN:VCALENDAR
VERSION:2.0
PRODID:-//https://www.pg-duerrbachtal.de///NONSGML kigkonsult.se iCalcreator 2.10.15//
METHOD:PUBLISH
BEGIN:VEVENT
UID:20260423T131418CEST-87755k8uVv@https://www.pg-duerrbachtal.de/
DTSTAMP:20260423T111418Z
DESCRIPTION:Kirchenkalender Februar 2021 steht zum Download bereit\n{rsfile
 s path='oeffentlich/Kirchenkalender/2021-02 KiKal.pdf'}\n&nbsp\;\nSenioren
 gottesdienste&nbsp\;&nbsp\; Entfallen&nbsp\; bis&nbsp\; auf weiteres\nwege
 n den hohen Inzidenz Zahlen und weiterem Lockdown.\n&nbsp\; https://www.pg
 -duerrbachtal.de/component/rseventspro/event/56-gottesdienste-im-februar-2
 021?Itemid=101
DTSTART:20210128T100000Z
DTEND:20210301T180000Z
LOCATION:St. Josef (neu) Oberdürrbach ()
SUMMARY:Gottesdienste im Februar 2021 
URL:https://www.pg-duerrbachtal.de/component/rseventspro/event/56-gottesdie
 nste-im-februar-2021?Itemid=101
END:VEVENT
END:VCALENDAR
