BEGIN:VCALENDAR
VERSION:2.0
PRODID:-//https://www.pg-duerrbachtal.de///NONSGML kigkonsult.se iCalcreator 2.10.15//
METHOD:PUBLISH
BEGIN:VEVENT
UID:20260424T043656CEST-5193UrPz6k@https://www.pg-duerrbachtal.de/
DTSTAMP:20260424T023656Z
DESCRIPTION:Frauenfrühstück war geplant\, kann aber nicht stattfinden.\n'Wa
 rte bis es dunkel ist' Diese Theaterstück wird&nbsp\; von der Theatergrupp
 e DÜBATA im&nbsp\; Pfarrheim Unterdürrbach am Freitag (8.11.24) am Samstag
  (9.1124) um 19.30 und am Sonntag (10.11.24) um 19.00 Uhr zu sehen sein.\n
 Herzlich willkommen https://www.pg-duerrbachtal.de/component/rseventspro/e
 vent/117-frauenfrühstück-in-unterdürrbach-findet-am-9-11-24-nicht-statt?It
 emid=101
DTSTART:20241109T080000Z
DTEND:20241109T080100Z
LOCATION:Pfarrheim Unterdürrbach (Unterdürrbacher Straße 351-371\, 97080\, 
 Würzburg\, Unterdürrbach\, Bayern)
SUMMARY:Frauenfrühstück in Unterdürrbach findet am 9.11.24 nicht statt
URL:https://www.pg-duerrbachtal.de/component/rseventspro/event/117-frauenfr
 ühstück-in-unterdürrbach-findet-am-9-11-24-nicht-statt?Itemid=101
END:VEVENT
END:VCALENDAR
