BEGIN:VCALENDAR
VERSION:2.0
PRODID:-//https://www.pg-duerrbachtal.de///NONSGML kigkonsult.se iCalcreator 2.10.15//
METHOD:PUBLISH
BEGIN:VEVENT
UID:20260421T202329CEST-7824TpICp6@https://www.pg-duerrbachtal.de/
DTSTAMP:20260421T182329Z
DESCRIPTION: https://www.pg-duerrbachtal.de/component/rseventspro/event/116
 -gedenkfeier-für-sternenkinder?Itemid=101
DTSTART:20241015T163000Z
DTEND:20241015T183000Z
LOCATION:Kuratie Veitshöchheim ()
SUMMARY:Gedenkfeier für Sternenkinder
URL:https://www.pg-duerrbachtal.de/component/rseventspro/event/116-gedenkfe
 ier-für-sternenkinder?Itemid=101
END:VEVENT
END:VCALENDAR
