BEGIN:VCALENDAR
VERSION:2.0
PRODID:-//https://www.pg-duerrbachtal.de///NONSGML kigkonsult.se iCalcreator 2.10.15//
METHOD:PUBLISH
BEGIN:VEVENT
UID:20260423T140451CEST-2487ufBmLB@https://www.pg-duerrbachtal.de/
DTSTAMP:20260423T120451Z
DESCRIPTION:Herzliche Einladung\n https://www.pg-duerrbachtal.de/component/
 rseventspro/event/104-kammermusik-in-st-vitus?Itemid=101
DTSTART:20230707T173000Z
DTEND:20230707T193000Z
LOCATION:Pfarrkirche St. Vitus Veitshöchheim ()
SUMMARY:Kammermusik in St. Vitus
URL:https://www.pg-duerrbachtal.de/component/rseventspro/event/104-kammermu
 sik-in-st-vitus?Itemid=101
END:VEVENT
END:VCALENDAR
