BEGIN:VCALENDAR
VERSION:2.0
PRODID:-//https://www.pg-duerrbachtal.de///NONSGML kigkonsult.se iCalcreator 2.10.15//
METHOD:PUBLISH
BEGIN:VEVENT
UID:20260423T121501CEST-4650vXunWJ@https://www.pg-duerrbachtal.de/
DTSTAMP:20260423T101501Z
DESCRIPTION: https://www.pg-duerrbachtal.de/component/rseventspro/event/108
 -die-beobachterin-theateraufführung-in-unterdürrbach?Itemid=101
DTSTART:20230902T170000Z
DTEND:20230902T193000Z
LOCATION:Pfarrheim Unterdürrbach (Unterdürrbacher Straße 351-371\, 97080\, 
 Würzburg\, Unterdürrbach\, Bayern)
SUMMARY: 'Die Beobachterin' Theateraufführung in Unterdürrbach
URL:https://www.pg-duerrbachtal.de/component/rseventspro/event/108-die-beob
 achterin-theateraufführung-in-unterdürrbach?Itemid=101
END:VEVENT
BEGIN:VEVENT
UID:20260423T121501CEST-4652N3hOI0@https://www.pg-duerrbachtal.de/
DTSTAMP:20260423T101501Z
DESCRIPTION: https://www.pg-duerrbachtal.de/component/rseventspro/event/109
 -die-beobachterin-theateraufführung-in-unterdürrbach?Itemid=101
DTSTART:20230903T170000Z
DTEND:20230903T193000Z
LOCATION:Pfarrheim Unterdürrbach (Unterdürrbacher Straße 351-371\, 97080\, 
 Würzburg\, Unterdürrbach\, Bayern)
SUMMARY: 'Die Beobachterin' Theateraufführung in Unterdürrbach
URL:https://www.pg-duerrbachtal.de/component/rseventspro/event/109-die-beob
 achterin-theateraufführung-in-unterdürrbach?Itemid=101
END:VEVENT
BEGIN:VEVENT
UID:20260423T121501CEST-46547ffN6u@https://www.pg-duerrbachtal.de/
DTSTAMP:20260423T101501Z
DESCRIPTION:Im Rahmen der fairen Woche 2023 findet in Veitshöchheim ein öku
 menischer Gottesdienst zum Thema Klima statt. Vorbereitet wurde er durch d
 ie fairtrade-Steuerungsgruppe der Gemeinde Veitshöchheim und mitgestaltet 
 von den Pfarrern Johannes Riedel und Christian Nowak. Der Chor 'Mit Herz &
 amp\; Stimme' begleitet musikalisch. Im Hinblick auf den Klimawandel und s
 eine Auswirkungen auf die Länder des globalen Südens\, aber inzwischen auc
 h auf unsere Breiten\, tut es gut\, die Motivation für die eigene und geme
 insame Verantwortung zu stärken\, aber auch das Gefühl der Verbundenheit m
 it der Schöpfung und Gott der Quelle des Lebens zu erfahren. Im Anschluss 
 gibt es einen Verkauf von fair gehandelten Waren und die Möglichkeit zu In
 formation über das Engagement für Gerechtigkeit und die Bewahrung der Schö
 pfung in Veitshöchheim. Herzliche Einladung!\nAutor: Roswitha Hofmann\nPla
 kat von Helga Dudek\n&nbsp\; https://www.pg-duerrbachtal.de/component/rsev
 entspro/event/110-fair-und-kein-grad-mehr?Itemid=101
DTSTART:20230915T163000Z
DTEND:20230915T180000Z
LOCATION:Christuskriche Veitshöchheim ()
SUMMARY:'Fair. Und kein Grad mehr!'
URL:https://www.pg-duerrbachtal.de/component/rseventspro/event/110-fair-und
 -kein-grad-mehr?Itemid=101
END:VEVENT
BEGIN:VEVENT
UID:20260423T121501CEST-465653k6ne@https://www.pg-duerrbachtal.de/
DTSTAMP:20260423T101501Z
DESCRIPTION:Wir begrüßen im Gottesdienst\nunsere neue Pastoralreferentin Li
 sa Fischer\nhttps://pow.bistum-wuerzburg.de/aktuelle-meldungen/detailansic
 ht/ansicht/lisa-fischer-wechselt-in-den-pastoralen-raum-wuerzburg-nord-wes
 t/\nund unsere neue Gemeindereferentin Martina Zentgraf\nhttps://pow.bistu
 m-wuerzburg.de/aktuelle-meldungen/detailansicht/ansicht/martina-zentgraf-w
 ird-gemeindereferentin-im-pastoralen-raum-wuerzburg-nord-west/\nmit anschl
 ießender Begegnung.\nHerzlich willkommen\n&nbsp\;\nnoch ein Hinweis:\nAm 5
 .11.2023 ist um 9.00 Uhr in St. Vitus in Veithöchheim ebenfalls die Begrüß
 ung der neuen Mitarbeiterinnen. https://www.pg-duerrbachtal.de/component/r
 seventspro/event/111-begrüßung-unserer-neuen-pastoralreferentin-und-gemein
 dereferentin-im-gottesdienst-mit-anschließender-begegnung?Itemid=101
DTSTART:20231022T083000Z
DTEND:20231022T100000Z
LOCATION:St. Josef Oberdürrbach ()
SUMMARY:Begrüßung unserer neuen Pastoralreferentin und Gemeindereferentin i
 m Gottesdienst mit anschließender Begegnung
URL:https://www.pg-duerrbachtal.de/component/rseventspro/event/111-begrüßun
 g-unserer-neuen-pastoralreferentin-und-gemeindereferentin-im-gottesdienst-
 mit-anschließender-begegnung?Itemid=101
END:VEVENT
BEGIN:VEVENT
UID:20260423T121501CEST-4658gRzFnl@https://www.pg-duerrbachtal.de/
DTSTAMP:20260423T101501Z
DESCRIPTION:Einladung zum ökumensichen Gottesdienst im Dürrbachtal am Buss-
  und Bettag\nHerzliche Einladung vom Forum Ökumene im Dürrbachtal https://
 www.pg-duerrbachtal.de/component/rseventspro/event/112-ökumenischer-gottes
 dienst-am-buss-und-bettag-im-dürrbachtal-forum-ökumene?Itemid=101
DTSTART:20231122T180000Z
DTEND:20231122T190000Z
LOCATION:St. Josef (neu) Oberdürrbach ()
SUMMARY: Ökumenischer Gottesdienst am Buss und Bettag im Dürrbachtal - Foru
 m Ökumene 
URL:https://www.pg-duerrbachtal.de/component/rseventspro/event/112-ökumenis
 cher-gottesdienst-am-buss-und-bettag-im-dürrbachtal-forum-ökumene?Itemid=1
 01
END:VEVENT
BEGIN:VEVENT
UID:20260423T121501CEST-46606LSjVZ@https://www.pg-duerrbachtal.de/
DTSTAMP:20260423T101501Z
DESCRIPTION: https://www.pg-duerrbachtal.de/component/rseventspro/event/113
 -firmvorbereitungstreffen-am-montag\,-17-juni-2024-um-19-uhr-im-pfarrheim-
 in-der-kuratie-kirche-veitshöchheim?Itemid=101
DTSTART:20240617T170000Z
DTEND:20240617T181500Z
LOCATION:Pfarrheim in der Kuratie-Kirche Veitshöchheim (Gartensiedlung\, Su
 detenstrasse 1 a) (Heidenfelderstraße)
SUMMARY:Firmvorbereitungstreffen  am Montag\, 17. Juni 2024 um 19 Uhr im Pf
 arrheim in der Kuratie-Kirche Veitshöchheim
URL:https://www.pg-duerrbachtal.de/component/rseventspro/event/113-firmvorb
 ereitungstreffen-am-montag,-17-juni-2024-um-19-uhr-im-pfarrheim-in-der-kur
 atie-kirche-veitshöchheim?Itemid=101
END:VEVENT
BEGIN:VEVENT
UID:20260423T121501CEST-46614AGhuP@https://www.pg-duerrbachtal.de/
DTSTAMP:20260423T101501Z
DESCRIPTION:Herzliche Einladung zur Bus-Wallfahrt nach Altötting mit Pfarre
 r Christian Nowak und Johannes Weismantel.\nWeitere Infos:\n2024_Wallfahrt
 _Altötting_PG_VHH.pdf\n&nbsp\; https://www.pg-duerrbachtal.de/component/r
 seventspro/event/114-wallfahrt-nach-altötting?Itemid=101
DTSTART:20241022T220000Z
DTEND:20241025T210000Z
LOCATION:Altötting ()
SUMMARY:Wallfahrt nach Altötting
URL:https://www.pg-duerrbachtal.de/component/rseventspro/event/114-wallfahr
 t-nach-altötting?Itemid=101
END:VEVENT
BEGIN:VEVENT
UID:20260423T121501CEST-4663JXJu4O@https://www.pg-duerrbachtal.de/
DTSTAMP:20260423T101501Z
DESCRIPTION:Infos hierzu finden Sie hier unter Nachrichten\n https://www.pg
 -duerrbachtal.de/component/rseventspro/event/115-kommunion-2025-elternaben
 d?Itemid=101
DTSTART:20241109T183000Z
DTEND:20241109T200000Z
LOCATION:Pfarrheim Unterdürrbach (Unterdürrbacher Straße 351-371\, 97080\, 
 Würzburg\, Unterdürrbach\, Bayern)
SUMMARY:Kommunion 2025 - Elternabend 
URL:https://www.pg-duerrbachtal.de/component/rseventspro/event/115-kommunio
 n-2025-elternabend?Itemid=101
END:VEVENT
BEGIN:VEVENT
UID:20260423T121501CEST-4664sxus8P@https://www.pg-duerrbachtal.de/
DTSTAMP:20260423T101501Z
DESCRIPTION: https://www.pg-duerrbachtal.de/component/rseventspro/event/116
 -gedenkfeier-für-sternenkinder?Itemid=101
DTSTART:20241015T163000Z
DTEND:20241015T183000Z
LOCATION:Kuratie Veitshöchheim ()
SUMMARY:Gedenkfeier für Sternenkinder
URL:https://www.pg-duerrbachtal.de/component/rseventspro/event/116-gedenkfe
 ier-für-sternenkinder?Itemid=101
END:VEVENT
BEGIN:VEVENT
UID:20260423T121501CEST-4666BD67Ii@https://www.pg-duerrbachtal.de/
DTSTAMP:20260423T101501Z
DESCRIPTION:Frauenfrühstück war geplant\, kann aber nicht stattfinden.\n'Wa
 rte bis es dunkel ist' Diese Theaterstück wird&nbsp\; von der Theatergrupp
 e DÜBATA im&nbsp\; Pfarrheim Unterdürrbach am Freitag (8.11.24) am Samstag
  (9.1124) um 19.30 und am Sonntag (10.11.24) um 19.00 Uhr zu sehen sein.\n
 Herzlich willkommen https://www.pg-duerrbachtal.de/component/rseventspro/e
 vent/117-frauenfrühstück-in-unterdürrbach-findet-am-9-11-24-nicht-statt?It
 emid=101
DTSTART:20241109T080000Z
DTEND:20241109T080100Z
LOCATION:Pfarrheim Unterdürrbach (Unterdürrbacher Straße 351-371\, 97080\, 
 Würzburg\, Unterdürrbach\, Bayern)
SUMMARY:Frauenfrühstück in Unterdürrbach findet am 9.11.24 nicht statt
URL:https://www.pg-duerrbachtal.de/component/rseventspro/event/117-frauenfr
 ühstück-in-unterdürrbach-findet-am-9-11-24-nicht-statt?Itemid=101
END:VEVENT
END:VCALENDAR
